BEGIN:VCALENDAR
VERSION:2.0
PRODID:-//Glengarry Golf &amp; Country Club - ECPv6.15.18//NONSGML v1.0//EN
CALSCALE:GREGORIAN
METHOD:PUBLISH
X-WR-CALNAME:Glengarry Golf &amp; Country Club
X-ORIGINAL-URL:https://www.glengarrygolf.ca/?lang=fr
X-WR-CALDESC:Évènements pour Glengarry Golf &amp; Country Club
REFRESH-INTERVAL;VALUE=DURATION:PT1H
X-Robots-Tag:noindex
X-PUBLISHED-TTL:PT1H
BEGIN:VTIMEZONE
TZID:America/New_York
BEGIN:DAYLIGHT
TZOFFSETFROM:-0500
TZOFFSETTO:-0400
TZNAME:EDT
DTSTART:20240310T070000
END:DAYLIGHT
BEGIN:STANDARD
TZOFFSETFROM:-0400
TZOFFSETTO:-0500
TZNAME:EST
DTSTART:20241103T060000
END:STANDARD
BEGIN:DAYLIGHT
TZOFFSETFROM:-0500
TZOFFSETTO:-0400
TZNAME:EDT
DTSTART:20250309T070000
END:DAYLIGHT
BEGIN:STANDARD
TZOFFSETFROM:-0400
TZOFFSETTO:-0500
TZNAME:EST
DTSTART:20251102T060000
END:STANDARD
BEGIN:DAYLIGHT
TZOFFSETFROM:-0500
TZOFFSETTO:-0400
TZNAME:EDT
DTSTART:20260308T070000
END:DAYLIGHT
BEGIN:STANDARD
TZOFFSETFROM:-0400
TZOFFSETTO:-0500
TZNAME:EST
DTSTART:20261101T060000
END:STANDARD
END:VTIMEZONE
BEGIN:VEVENT
DTSTART;TZID=America/New_York:20250623T080000
DTEND;TZID=America/New_York:20250623T220000
DTSTAMP:20260421T212517
CREATED:20250426T155349Z
LAST-MODIFIED:20250426T160326Z
UID:10000050-1750665600-1750716000@www.glengarrygolf.ca
SUMMARY:Ligue des sénateurs
DESCRIPTION:Les lundis. Débute à 8h00\, 18 trous. Si le lundi est un jour férié\, il est reporté au mardi.
URL:https://www.glengarrygolf.ca/event/ligue-des-senateurs/2025-06-23/?lang=fr
END:VEVENT
END:VCALENDAR