BEGIN:VCALENDAR
VERSION:2.0
PRODID:-//Glengarry Golf &amp; Country Club - ECPv6.15.18//NONSGML v1.0//EN
CALSCALE:GREGORIAN
METHOD:PUBLISH
X-WR-CALNAME:Glengarry Golf &amp; Country Club
X-ORIGINAL-URL:https://www.glengarrygolf.ca/?lang=fr
X-WR-CALDESC:Évènements pour Glengarry Golf &amp; Country Club
REFRESH-INTERVAL;VALUE=DURATION:PT1H
X-Robots-Tag:noindex
X-PUBLISHED-TTL:PT1H
BEGIN:VTIMEZONE
TZID:America/New_York
BEGIN:DAYLIGHT
TZOFFSETFROM:-0500
TZOFFSETTO:-0400
TZNAME:EDT
DTSTART:20240310T070000
END:DAYLIGHT
BEGIN:STANDARD
TZOFFSETFROM:-0400
TZOFFSETTO:-0500
TZNAME:EST
DTSTART:20241103T060000
END:STANDARD
BEGIN:DAYLIGHT
TZOFFSETFROM:-0500
TZOFFSETTO:-0400
TZNAME:EDT
DTSTART:20250309T070000
END:DAYLIGHT
BEGIN:STANDARD
TZOFFSETFROM:-0400
TZOFFSETTO:-0500
TZNAME:EST
DTSTART:20251102T060000
END:STANDARD
BEGIN:DAYLIGHT
TZOFFSETFROM:-0500
TZOFFSETTO:-0400
TZNAME:EDT
DTSTART:20260308T070000
END:DAYLIGHT
BEGIN:STANDARD
TZOFFSETFROM:-0400
TZOFFSETTO:-0500
TZNAME:EST
DTSTART:20261101T060000
END:STANDARD
END:VTIMEZONE
BEGIN:VEVENT
DTSTART;TZID=America/New_York:20250822T070000
DTEND;TZID=America/New_York:20250822T120000
DTSTAMP:20260421T144924
CREATED:20250803T200102Z
LAST-MODIFIED:20250803T200102Z
UID:10000143-1755846000-1755864000@www.glengarrygolf.ca
SUMMARY:GGCC Shotgun du matin
DESCRIPTION:Shotgun à 7h00 du matin pour les membres et clients.  S’inscrire au ProShop ou appeler 613 525 2912\, option 1
URL:https://www.glengarrygolf.ca/event/ggcc-shotgun-du-matin-2/?lang=fr
END:VEVENT
BEGIN:VEVENT
DTSTART;TZID=America/New_York:20250822T140000
DTEND;TZID=America/New_York:20250822T180000
DTSTAMP:20260421T144924
CREATED:20250803T200235Z
LAST-MODIFIED:20250803T200348Z
UID:10000144-1755871200-1755885600@www.glengarrygolf.ca
SUMMARY:5e Tournoi Dwight (HGMH)
DESCRIPTION:Pour information\, contactez Pierre Vaillancourt à pvr.va@outlook.com
URL:https://www.glengarrygolf.ca/event/5e-tournoi-dwight-hgmh/?lang=fr
END:VEVENT
END:VCALENDAR