BEGIN:VCALENDAR
VERSION:2.0
PRODID:-//Glengarry Golf &amp; Country Club - ECPv6.15.18//NONSGML v1.0//EN
CALSCALE:GREGORIAN
METHOD:PUBLISH
X-WR-CALNAME:Glengarry Golf &amp; Country Club
X-ORIGINAL-URL:https://www.glengarrygolf.ca/?lang=fr
X-WR-CALDESC:Évènements pour Glengarry Golf &amp; Country Club
REFRESH-INTERVAL;VALUE=DURATION:PT1H
X-Robots-Tag:noindex
X-PUBLISHED-TTL:PT1H
BEGIN:VTIMEZONE
TZID:America/New_York
BEGIN:DAYLIGHT
TZOFFSETFROM:-0500
TZOFFSETTO:-0400
TZNAME:EDT
DTSTART:20240310T070000
END:DAYLIGHT
BEGIN:STANDARD
TZOFFSETFROM:-0400
TZOFFSETTO:-0500
TZNAME:EST
DTSTART:20241103T060000
END:STANDARD
BEGIN:DAYLIGHT
TZOFFSETFROM:-0500
TZOFFSETTO:-0400
TZNAME:EDT
DTSTART:20250309T070000
END:DAYLIGHT
BEGIN:STANDARD
TZOFFSETFROM:-0400
TZOFFSETTO:-0500
TZNAME:EST
DTSTART:20251102T060000
END:STANDARD
BEGIN:DAYLIGHT
TZOFFSETFROM:-0500
TZOFFSETTO:-0400
TZNAME:EDT
DTSTART:20260308T070000
END:DAYLIGHT
BEGIN:STANDARD
TZOFFSETFROM:-0400
TZOFFSETTO:-0500
TZNAME:EST
DTSTART:20261101T060000
END:STANDARD
END:VTIMEZONE
BEGIN:VEVENT
DTSTART;TZID=America/New_York:20251006T070000
DTEND;TZID=America/New_York:20251006T125000
DTSTAMP:20260421T121445
CREATED:20250803T201929Z
LAST-MODIFIED:20250803T201929Z
UID:10000155-1759734000-1759755000@www.glengarrygolf.ca
SUMMARY:Tournoi de fin de saison ligue des Sénateurs
DESCRIPTION:Pour information\, contactez Marc Jodouin au 514 779 0408
URL:https://www.glengarrygolf.ca/event/tournoi-de-fin-de-saison-ligue-des-senateurs/?lang=fr
END:VEVENT
BEGIN:VEVENT
DTSTART;TZID=America/New_York:20251006T080000
DTEND;TZID=America/New_York:20251006T220000
DTSTAMP:20260421T121445
CREATED:20250426T155349Z
LAST-MODIFIED:20250426T160326Z
UID:10000064-1759737600-1759788000@www.glengarrygolf.ca
SUMMARY:Ligue des sénateurs
DESCRIPTION:Les lundis. Débute à 8h00\, 18 trous. Si le lundi est un jour férié\, il est reporté au mardi.
URL:https://www.glengarrygolf.ca/event/ligue-des-senateurs/2025-10-06/?lang=fr
END:VEVENT
END:VCALENDAR