BEGIN:VCALENDAR
VERSION:2.0
PRODID:-//Glengarry Golf &amp; Country Club - ECPv6.15.18//NONSGML v1.0//EN
CALSCALE:GREGORIAN
METHOD:PUBLISH
X-WR-CALNAME:Glengarry Golf &amp; Country Club
X-ORIGINAL-URL:https://www.glengarrygolf.ca
X-WR-CALDESC:Events for Glengarry Golf &amp; Country Club
REFRESH-INTERVAL;VALUE=DURATION:PT1H
X-Robots-Tag:noindex
X-PUBLISHED-TTL:PT1H
BEGIN:VTIMEZONE
TZID:America/New_York
BEGIN:DAYLIGHT
TZOFFSETFROM:-0500
TZOFFSETTO:-0400
TZNAME:EDT
DTSTART:20250309T070000
END:DAYLIGHT
BEGIN:STANDARD
TZOFFSETFROM:-0400
TZOFFSETTO:-0500
TZNAME:EST
DTSTART:20251102T060000
END:STANDARD
BEGIN:DAYLIGHT
TZOFFSETFROM:-0500
TZOFFSETTO:-0400
TZNAME:EDT
DTSTART:20260308T070000
END:DAYLIGHT
BEGIN:STANDARD
TZOFFSETFROM:-0400
TZOFFSETTO:-0500
TZNAME:EST
DTSTART:20261101T060000
END:STANDARD
BEGIN:DAYLIGHT
TZOFFSETFROM:-0500
TZOFFSETTO:-0400
TZNAME:EDT
DTSTART:20270314T070000
END:DAYLIGHT
BEGIN:STANDARD
TZOFFSETFROM:-0400
TZOFFSETTO:-0500
TZNAME:EST
DTSTART:20271107T060000
END:STANDARD
END:VTIMEZONE
BEGIN:VEVENT
DTSTART;TZID=America/New_York:20260602T110000
DTEND;TZID=America/New_York:20260602T120000
DTSTAMP:20260421T214356
CREATED:20260415T174909Z
LAST-MODIFIED:20260416T165558Z
UID:10000522-1780398000-1780401600@www.glengarrygolf.ca
SUMMARY:RBC Scramble Local Qualifier
DESCRIPTION:Format : 8-Some Tee Times \nStart time : 11:00 AM \nRegister before May 23rd
URL:https://www.glengarrygolf.ca/event/rbc-scramble-local-qualifier/
END:VEVENT
BEGIN:VEVENT
DTSTART;TZID=America/New_York:20260602T150000
DTEND;TZID=America/New_York:20260602T173000
DTSTAMP:20260421T214356
CREATED:20260413T194930Z
LAST-MODIFIED:20260415T161445Z
UID:10000169-1780412400-1780421400@www.glengarrygolf.ca
SUMMARY:Ladies' Twilight League
DESCRIPTION:From 3:00 pm to 5:30 pm\, 9 Holes
URL:https://www.glengarrygolf.ca/event/ladies-twilight-2/2026-06-02/
END:VEVENT
END:VCALENDAR