BEGIN:VCALENDAR
VERSION:2.0
PRODID:-//Glengarry Golf &amp; Country Club - ECPv6.15.18//NONSGML v1.0//EN
CALSCALE:GREGORIAN
METHOD:PUBLISH
X-WR-CALNAME:Glengarry Golf &amp; Country Club
X-ORIGINAL-URL:https://www.glengarrygolf.ca
X-WR-CALDESC:Events for Glengarry Golf &amp; Country Club
REFRESH-INTERVAL;VALUE=DURATION:PT1H
X-Robots-Tag:noindex
X-PUBLISHED-TTL:PT1H
BEGIN:VTIMEZONE
TZID:America/New_York
BEGIN:DAYLIGHT
TZOFFSETFROM:-0500
TZOFFSETTO:-0400
TZNAME:EDT
DTSTART:20250309T070000
END:DAYLIGHT
BEGIN:STANDARD
TZOFFSETFROM:-0400
TZOFFSETTO:-0500
TZNAME:EST
DTSTART:20251102T060000
END:STANDARD
BEGIN:DAYLIGHT
TZOFFSETFROM:-0500
TZOFFSETTO:-0400
TZNAME:EDT
DTSTART:20260308T070000
END:DAYLIGHT
BEGIN:STANDARD
TZOFFSETFROM:-0400
TZOFFSETTO:-0500
TZNAME:EST
DTSTART:20261101T060000
END:STANDARD
BEGIN:DAYLIGHT
TZOFFSETFROM:-0500
TZOFFSETTO:-0400
TZNAME:EDT
DTSTART:20270314T070000
END:DAYLIGHT
BEGIN:STANDARD
TZOFFSETFROM:-0400
TZOFFSETTO:-0500
TZNAME:EST
DTSTART:20271107T060000
END:STANDARD
END:VTIMEZONE
BEGIN:VEVENT
DTSTART;TZID=America/New_York:20260613T073000
DTEND;TZID=America/New_York:20260613T120000
DTSTAMP:20260421T231526
CREATED:20260415T175144Z
LAST-MODIFIED:20260415T175508Z
UID:10000528-1781335800-1781352000@www.glengarrygolf.ca
SUMMARY:Intersectional Qualifiers
DESCRIPTION:Shotgun start at 7:30 AM
URL:https://www.glengarrygolf.ca/event/intersectional-qualifiers/2026-06-13/
END:VEVENT
BEGIN:VEVENT
DTSTART;TZID=America/New_York:20260613T073000
DTEND;TZID=America/New_York:20260613T120000
DTSTAMP:20260421T231526
CREATED:20260416T155603Z
LAST-MODIFIED:20260416T160108Z
UID:10000545-1781335800-1781352000@www.glengarrygolf.ca
SUMMARY:Morning Shotgun
DESCRIPTION:Morning shotgun for members and green fees at 7:30 AM
URL:https://www.glengarrygolf.ca/event/morning-shotgun/2026-06-13/
END:VEVENT
BEGIN:VEVENT
DTSTART;TZID=America/New_York:20260613T130000
DTEND;TZID=America/New_York:20260613T180000
DTSTAMP:20260421T231526
CREATED:20260415T173058Z
LAST-MODIFIED:20260415T173058Z
UID:10000510-1781355600-1781373600@www.glengarrygolf.ca
SUMMARY:Maxville Lions Tournament
DESCRIPTION:Shotgun start at 1:00 PM
URL:https://www.glengarrygolf.ca/event/maxville-lions-tournament/
END:VEVENT
END:VCALENDAR