BEGIN:VCALENDAR
VERSION:2.0
PRODID:-//Glengarry Golf &amp; Country Club - ECPv6.15.18//NONSGML v1.0//EN
CALSCALE:GREGORIAN
METHOD:PUBLISH
X-WR-CALNAME:Glengarry Golf &amp; Country Club
X-ORIGINAL-URL:https://www.glengarrygolf.ca
X-WR-CALDESC:Events for Glengarry Golf &amp; Country Club
REFRESH-INTERVAL;VALUE=DURATION:PT1H
X-Robots-Tag:noindex
X-PUBLISHED-TTL:PT1H
BEGIN:VTIMEZONE
TZID:America/New_York
BEGIN:DAYLIGHT
TZOFFSETFROM:-0500
TZOFFSETTO:-0400
TZNAME:EDT
DTSTART:20250309T070000
END:DAYLIGHT
BEGIN:STANDARD
TZOFFSETFROM:-0400
TZOFFSETTO:-0500
TZNAME:EST
DTSTART:20251102T060000
END:STANDARD
BEGIN:DAYLIGHT
TZOFFSETFROM:-0500
TZOFFSETTO:-0400
TZNAME:EDT
DTSTART:20260308T070000
END:DAYLIGHT
BEGIN:STANDARD
TZOFFSETFROM:-0400
TZOFFSETTO:-0500
TZNAME:EST
DTSTART:20261101T060000
END:STANDARD
BEGIN:DAYLIGHT
TZOFFSETFROM:-0500
TZOFFSETTO:-0400
TZNAME:EDT
DTSTART:20270314T070000
END:DAYLIGHT
BEGIN:STANDARD
TZOFFSETFROM:-0400
TZOFFSETTO:-0500
TZNAME:EST
DTSTART:20271107T060000
END:STANDARD
END:VTIMEZONE
BEGIN:VEVENT
DTSTART;TZID=America/New_York:20260730T073000
DTEND;TZID=America/New_York:20260730T120000
DTSTAMP:20260422T004304
CREATED:20260416T155603Z
LAST-MODIFIED:20260416T160108Z
UID:10000548-1785396600-1785412800@www.glengarrygolf.ca
SUMMARY:Morning Shotgun
DESCRIPTION:Morning shotgun for members and green fees at 7:30 AM
URL:https://www.glengarrygolf.ca/event/morning-shotgun/2026-07-30/
END:VEVENT
BEGIN:VEVENT
DTSTART;TZID=America/New_York:20260730T130000
DTEND;TZID=America/New_York:20260730T180000
DTSTAMP:20260422T004305
CREATED:20260415T173444Z
LAST-MODIFIED:20260415T173444Z
UID:10000513-1785416400-1785434400@www.glengarrygolf.ca
SUMMARY:St. Raphael's Ruins Tournament
DESCRIPTION:Shotgun start at 1:00 PM
URL:https://www.glengarrygolf.ca/event/st-raphaels-ruins-tournament/
END:VEVENT
END:VCALENDAR