BEGIN:VCALENDAR
VERSION:2.0
PRODID:-//Glengarry Golf &amp; Country Club - ECPv6.15.18//NONSGML v1.0//EN
CALSCALE:GREGORIAN
METHOD:PUBLISH
X-WR-CALNAME:Glengarry Golf &amp; Country Club
X-ORIGINAL-URL:https://www.glengarrygolf.ca/?lang=fr
X-WR-CALDESC:Évènements pour Glengarry Golf &amp; Country Club
REFRESH-INTERVAL;VALUE=DURATION:PT1H
X-Robots-Tag:noindex
X-PUBLISHED-TTL:PT1H
BEGIN:VTIMEZONE
TZID:America/New_York
BEGIN:DAYLIGHT
TZOFFSETFROM:-0500
TZOFFSETTO:-0400
TZNAME:EDT
DTSTART:20250309T070000
END:DAYLIGHT
BEGIN:STANDARD
TZOFFSETFROM:-0400
TZOFFSETTO:-0500
TZNAME:EST
DTSTART:20251102T060000
END:STANDARD
BEGIN:DAYLIGHT
TZOFFSETFROM:-0500
TZOFFSETTO:-0400
TZNAME:EDT
DTSTART:20260308T070000
END:DAYLIGHT
BEGIN:STANDARD
TZOFFSETFROM:-0400
TZOFFSETTO:-0500
TZNAME:EST
DTSTART:20261101T060000
END:STANDARD
BEGIN:DAYLIGHT
TZOFFSETFROM:-0500
TZOFFSETTO:-0400
TZNAME:EDT
DTSTART:20270314T070000
END:DAYLIGHT
BEGIN:STANDARD
TZOFFSETFROM:-0400
TZOFFSETTO:-0500
TZNAME:EST
DTSTART:20271107T060000
END:STANDARD
END:VTIMEZONE
BEGIN:VEVENT
DTSTART;TZID=America/New_York:20260926T073000
DTEND;TZID=America/New_York:20260926T120000
DTSTAMP:20260422T130949
CREATED:20260421T204102Z
LAST-MODIFIED:20260421T204102Z
UID:10000598-1790407800-1790424000@www.glengarrygolf.ca
SUMMARY:GGCC shotgun du matin
DESCRIPTION:Départ simultané à 7h30 du matin pour les membres et clients.
URL:https://www.glengarrygolf.ca/event/ggcc-shotgun-du-matin-7/2026-09-26/?lang=fr
END:VEVENT
BEGIN:VEVENT
DTSTART;TZID=America/New_York:20260926T130000
DTEND;TZID=America/New_York:20260926T180000
DTSTAMP:20260422T130949
CREATED:20260421T201731Z
LAST-MODIFIED:20260421T201731Z
UID:10000575-1790427600-1790445600@www.glengarrygolf.ca
SUMMARY:Tournoi de la ligue du Twilight des hommes
DESCRIPTION:Départ simultané à 13h00
URL:https://www.glengarrygolf.ca/event/tournoi-de-la-ligue-du-twilight-des-hommes/?lang=fr
END:VEVENT
END:VCALENDAR