BEGIN:VCALENDAR
VERSION:2.0
PRODID:-//Glengarry Golf &amp; Country Club - ECPv6.15.18//NONSGML v1.0//EN
CALSCALE:GREGORIAN
METHOD:PUBLISH
X-WR-CALNAME:Glengarry Golf &amp; Country Club
X-ORIGINAL-URL:https://www.glengarrygolf.ca/?lang=fr
X-WR-CALDESC:Évènements pour Glengarry Golf &amp; Country Club
REFRESH-INTERVAL;VALUE=DURATION:PT1H
X-Robots-Tag:noindex
X-PUBLISHED-TTL:PT1H
BEGIN:VTIMEZONE
TZID:America/New_York
BEGIN:DAYLIGHT
TZOFFSETFROM:-0500
TZOFFSETTO:-0400
TZNAME:EDT
DTSTART:20250309T070000
END:DAYLIGHT
BEGIN:STANDARD
TZOFFSETFROM:-0400
TZOFFSETTO:-0500
TZNAME:EST
DTSTART:20251102T060000
END:STANDARD
BEGIN:DAYLIGHT
TZOFFSETFROM:-0500
TZOFFSETTO:-0400
TZNAME:EDT
DTSTART:20260308T070000
END:DAYLIGHT
BEGIN:STANDARD
TZOFFSETFROM:-0400
TZOFFSETTO:-0500
TZNAME:EST
DTSTART:20261101T060000
END:STANDARD
BEGIN:DAYLIGHT
TZOFFSETFROM:-0500
TZOFFSETTO:-0400
TZNAME:EDT
DTSTART:20270314T070000
END:DAYLIGHT
BEGIN:STANDARD
TZOFFSETFROM:-0400
TZOFFSETTO:-0500
TZNAME:EST
DTSTART:20271107T060000
END:STANDARD
END:VTIMEZONE
BEGIN:VEVENT
DTSTART;TZID=America/New_York:20261005T073000
DTEND;TZID=America/New_York:20261005T120000
DTSTAMP:20260422T221321
CREATED:20260421T201239Z
LAST-MODIFIED:20260421T201239Z
UID:10000574-1791185400-1791201600@www.glengarrygolf.ca
SUMMARY:Tournoi de fin d'année des sénateurs
DESCRIPTION:Pour plus d’informations\, contactez Marc Jodouin au 514-779-0408
URL:https://www.glengarrygolf.ca/event/tournoi-de-fin-dannee-des-senateurs/?lang=fr
END:VEVENT
END:VCALENDAR