BEGIN:VCALENDAR
VERSION:2.0
PRODID:-//Glengarry Golf &amp; Country Club - ECPv6.15.18//NONSGML v1.0//EN
CALSCALE:GREGORIAN
METHOD:PUBLISH
X-WR-CALNAME:Glengarry Golf &amp; Country Club
X-ORIGINAL-URL:https://www.glengarrygolf.ca/?lang=fr
X-WR-CALDESC:Évènements pour Glengarry Golf &amp; Country Club
REFRESH-INTERVAL;VALUE=DURATION:PT1H
X-Robots-Tag:noindex
X-PUBLISHED-TTL:PT1H
BEGIN:VTIMEZONE
TZID:America/New_York
BEGIN:DAYLIGHT
TZOFFSETFROM:-0500
TZOFFSETTO:-0400
TZNAME:EDT
DTSTART:20240310T070000
END:DAYLIGHT
BEGIN:STANDARD
TZOFFSETFROM:-0400
TZOFFSETTO:-0500
TZNAME:EST
DTSTART:20241103T060000
END:STANDARD
BEGIN:DAYLIGHT
TZOFFSETFROM:-0500
TZOFFSETTO:-0400
TZNAME:EDT
DTSTART:20250309T070000
END:DAYLIGHT
BEGIN:STANDARD
TZOFFSETFROM:-0400
TZOFFSETTO:-0500
TZNAME:EST
DTSTART:20251102T060000
END:STANDARD
BEGIN:DAYLIGHT
TZOFFSETFROM:-0500
TZOFFSETTO:-0400
TZNAME:EDT
DTSTART:20260308T070000
END:DAYLIGHT
BEGIN:STANDARD
TZOFFSETFROM:-0400
TZOFFSETTO:-0500
TZNAME:EST
DTSTART:20261101T060000
END:STANDARD
END:VTIMEZONE
BEGIN:VEVENT
DTSTART;TZID=America/New_York:20250602T080000
DTEND;TZID=America/New_York:20250602T220000
DTSTAMP:20260421T200835
CREATED:20250426T155349Z
LAST-MODIFIED:20250426T160326Z
UID:10000047-1748851200-1748901600@www.glengarrygolf.ca
SUMMARY:Ligue des sénateurs
DESCRIPTION:Les lundis. Débute à 8h00\, 18 trous. Si le lundi est un jour férié\, il est reporté au mardi.
URL:https://www.glengarrygolf.ca/event/ligue-des-senateurs/2025-06-02/?lang=fr
END:VEVENT
BEGIN:VEVENT
DTSTART;TZID=America/New_York:20250603T150000
DTEND;TZID=America/New_York:20250603T173000
DTSTAMP:20260421T200835
CREATED:20250426T155715Z
LAST-MODIFIED:20250426T155715Z
UID:10000109-1748962800-1748971800@www.glengarrygolf.ca
SUMMARY:Ligue Ladies Twilight
DESCRIPTION:Mardi de 15h00 à 17h30 – 9 trous
URL:https://www.glengarrygolf.ca/event/ligue-ladies-twilight/2025-06-03/?lang=fr
END:VEVENT
BEGIN:VEVENT
DTSTART;TZID=America/New_York:20250604T141000
DTEND;TZID=America/New_York:20250604T183000
DTSTAMP:20260421T200835
CREATED:20250426T160547Z
LAST-MODIFIED:20250426T160547Z
UID:10000088-1749046200-1749061800@www.glengarrygolf.ca
SUMMARY:Ligue du Mens' Twilight
DESCRIPTION:Les mercredis de 14h10 à 18h30.
URL:https://www.glengarrygolf.ca/event/ligue-du-mens-twilight/2025-06-04/?lang=fr
END:VEVENT
BEGIN:VEVENT
DTSTART;TZID=America/New_York:20250609T080000
DTEND;TZID=America/New_York:20250609T220000
DTSTAMP:20260421T200835
CREATED:20250426T155349Z
LAST-MODIFIED:20250426T160326Z
UID:10000048-1749456000-1749506400@www.glengarrygolf.ca
SUMMARY:Ligue des sénateurs
DESCRIPTION:Les lundis. Débute à 8h00\, 18 trous. Si le lundi est un jour férié\, il est reporté au mardi.
URL:https://www.glengarrygolf.ca/event/ligue-des-senateurs/2025-06-09/?lang=fr
END:VEVENT
BEGIN:VEVENT
DTSTART;TZID=America/New_York:20250610T150000
DTEND;TZID=America/New_York:20250610T173000
DTSTAMP:20260421T200835
CREATED:20250426T155715Z
LAST-MODIFIED:20250426T155715Z
UID:10000110-1749567600-1749576600@www.glengarrygolf.ca
SUMMARY:Ligue Ladies Twilight
DESCRIPTION:Mardi de 15h00 à 17h30 – 9 trous
URL:https://www.glengarrygolf.ca/event/ligue-ladies-twilight/2025-06-10/?lang=fr
END:VEVENT
BEGIN:VEVENT
DTSTART;TZID=America/New_York:20250611T141000
DTEND;TZID=America/New_York:20250611T183000
DTSTAMP:20260421T200835
CREATED:20250426T160547Z
LAST-MODIFIED:20250426T160547Z
UID:10000089-1749651000-1749666600@www.glengarrygolf.ca
SUMMARY:Ligue du Mens' Twilight
DESCRIPTION:Les mercredis de 14h10 à 18h30.
URL:https://www.glengarrygolf.ca/event/ligue-du-mens-twilight/2025-06-11/?lang=fr
END:VEVENT
BEGIN:VEVENT
DTSTART;TZID=America/New_York:20250616T080000
DTEND;TZID=America/New_York:20250616T220000
DTSTAMP:20260421T200835
CREATED:20250426T155349Z
LAST-MODIFIED:20250426T160326Z
UID:10000049-1750060800-1750111200@www.glengarrygolf.ca
SUMMARY:Ligue des sénateurs
DESCRIPTION:Les lundis. Débute à 8h00\, 18 trous. Si le lundi est un jour férié\, il est reporté au mardi.
URL:https://www.glengarrygolf.ca/event/ligue-des-senateurs/2025-06-16/?lang=fr
END:VEVENT
BEGIN:VEVENT
DTSTART;TZID=America/New_York:20250617T150000
DTEND;TZID=America/New_York:20250617T173000
DTSTAMP:20260421T200835
CREATED:20250426T155715Z
LAST-MODIFIED:20250426T155715Z
UID:10000111-1750172400-1750181400@www.glengarrygolf.ca
SUMMARY:Ligue Ladies Twilight
DESCRIPTION:Mardi de 15h00 à 17h30 – 9 trous
URL:https://www.glengarrygolf.ca/event/ligue-ladies-twilight/2025-06-17/?lang=fr
END:VEVENT
BEGIN:VEVENT
DTSTART;TZID=America/New_York:20250618T141000
DTEND;TZID=America/New_York:20250618T183000
DTSTAMP:20260421T200835
CREATED:20250426T160547Z
LAST-MODIFIED:20250426T160547Z
UID:10000090-1750255800-1750271400@www.glengarrygolf.ca
SUMMARY:Ligue du Mens' Twilight
DESCRIPTION:Les mercredis de 14h10 à 18h30.
URL:https://www.glengarrygolf.ca/event/ligue-du-mens-twilight/2025-06-18/?lang=fr
END:VEVENT
BEGIN:VEVENT
DTSTART;TZID=America/New_York:20250623T080000
DTEND;TZID=America/New_York:20250623T220000
DTSTAMP:20260421T200835
CREATED:20250426T155349Z
LAST-MODIFIED:20250426T160326Z
UID:10000050-1750665600-1750716000@www.glengarrygolf.ca
SUMMARY:Ligue des sénateurs
DESCRIPTION:Les lundis. Débute à 8h00\, 18 trous. Si le lundi est un jour férié\, il est reporté au mardi.
URL:https://www.glengarrygolf.ca/event/ligue-des-senateurs/2025-06-23/?lang=fr
END:VEVENT
BEGIN:VEVENT
DTSTART;TZID=America/New_York:20250624T150000
DTEND;TZID=America/New_York:20250624T173000
DTSTAMP:20260421T200835
CREATED:20250426T155715Z
LAST-MODIFIED:20250426T155715Z
UID:10000112-1750777200-1750786200@www.glengarrygolf.ca
SUMMARY:Ligue Ladies Twilight
DESCRIPTION:Mardi de 15h00 à 17h30 – 9 trous
URL:https://www.glengarrygolf.ca/event/ligue-ladies-twilight/2025-06-24/?lang=fr
END:VEVENT
BEGIN:VEVENT
DTSTART;TZID=America/New_York:20250625T141000
DTEND;TZID=America/New_York:20250625T183000
DTSTAMP:20260421T200835
CREATED:20250426T160547Z
LAST-MODIFIED:20250426T160547Z
UID:10000091-1750860600-1750876200@www.glengarrygolf.ca
SUMMARY:Ligue du Mens' Twilight
DESCRIPTION:Les mercredis de 14h10 à 18h30.
URL:https://www.glengarrygolf.ca/event/ligue-du-mens-twilight/2025-06-25/?lang=fr
END:VEVENT
BEGIN:VEVENT
DTSTART;TZID=America/New_York:20250630T080000
DTEND;TZID=America/New_York:20250630T220000
DTSTAMP:20260421T200835
CREATED:20250426T155349Z
LAST-MODIFIED:20250426T160326Z
UID:10000051-1751270400-1751320800@www.glengarrygolf.ca
SUMMARY:Ligue des sénateurs
DESCRIPTION:Les lundis. Débute à 8h00\, 18 trous. Si le lundi est un jour férié\, il est reporté au mardi.
URL:https://www.glengarrygolf.ca/event/ligue-des-senateurs/2025-06-30/?lang=fr
END:VEVENT
END:VCALENDAR