BEGIN:VCALENDAR
VERSION:2.0
PRODID:-//Glengarry Golf &amp; Country Club - ECPv6.15.18//NONSGML v1.0//EN
CALSCALE:GREGORIAN
METHOD:PUBLISH
X-ORIGINAL-URL:https://www.glengarrygolf.ca/?lang=fr
X-WR-CALDESC:Évènements pour Glengarry Golf &amp; Country Club
REFRESH-INTERVAL;VALUE=DURATION:PT1H
X-Robots-Tag:noindex
X-PUBLISHED-TTL:PT1H
BEGIN:VTIMEZONE
TZID:America/New_York
BEGIN:DAYLIGHT
TZOFFSETFROM:-0500
TZOFFSETTO:-0400
TZNAME:EDT
DTSTART:20240310T070000
END:DAYLIGHT
BEGIN:STANDARD
TZOFFSETFROM:-0400
TZOFFSETTO:-0500
TZNAME:EST
DTSTART:20241103T060000
END:STANDARD
BEGIN:DAYLIGHT
TZOFFSETFROM:-0500
TZOFFSETTO:-0400
TZNAME:EDT
DTSTART:20250309T070000
END:DAYLIGHT
BEGIN:STANDARD
TZOFFSETFROM:-0400
TZOFFSETTO:-0500
TZNAME:EST
DTSTART:20251102T060000
END:STANDARD
BEGIN:DAYLIGHT
TZOFFSETFROM:-0500
TZOFFSETTO:-0400
TZNAME:EDT
DTSTART:20260308T070000
END:DAYLIGHT
BEGIN:STANDARD
TZOFFSETFROM:-0400
TZOFFSETTO:-0500
TZNAME:EST
DTSTART:20261101T060000
END:STANDARD
END:VTIMEZONE
BEGIN:VEVENT
DTSTART;TZID=America/New_York:20250702T141000
DTEND;TZID=America/New_York:20250702T183000
DTSTAMP:20260421T161252
CREATED:20250426T160547Z
LAST-MODIFIED:20250426T160547Z
UID:10000092-1751465400-1751481000@www.glengarrygolf.ca
SUMMARY:Ligue du Mens' Twilight
DESCRIPTION:Les mercredis de 14h10 à 18h30.
URL:https://www.glengarrygolf.ca/event/ligue-du-mens-twilight/2025-07-02/?lang=fr
END:VEVENT
BEGIN:VEVENT
DTSTART;TZID=America/New_York:20250707T080000
DTEND;TZID=America/New_York:20250707T220000
DTSTAMP:20260421T161252
CREATED:20250426T155349Z
LAST-MODIFIED:20250426T160326Z
UID:10000052-1751875200-1751925600@www.glengarrygolf.ca
SUMMARY:Ligue des sénateurs
DESCRIPTION:Les lundis. Débute à 8h00\, 18 trous. Si le lundi est un jour férié\, il est reporté au mardi.
URL:https://www.glengarrygolf.ca/event/ligue-des-senateurs/2025-07-07/?lang=fr
END:VEVENT
BEGIN:VEVENT
DTSTART;TZID=America/New_York:20250708T150000
DTEND;TZID=America/New_York:20250708T173000
DTSTAMP:20260421T161252
CREATED:20250426T155715Z
LAST-MODIFIED:20250426T155715Z
UID:10000113-1751986800-1751995800@www.glengarrygolf.ca
SUMMARY:Ligue Ladies Twilight
DESCRIPTION:Mardi de 15h00 à 17h30 – 9 trous
URL:https://www.glengarrygolf.ca/event/ligue-ladies-twilight/2025-07-08/?lang=fr
END:VEVENT
BEGIN:VEVENT
DTSTART;TZID=America/New_York:20250709T141000
DTEND;TZID=America/New_York:20250709T183000
DTSTAMP:20260421T161252
CREATED:20250426T160547Z
LAST-MODIFIED:20250426T160547Z
UID:10000093-1752070200-1752085800@www.glengarrygolf.ca
SUMMARY:Ligue du Mens' Twilight
DESCRIPTION:Les mercredis de 14h10 à 18h30.
URL:https://www.glengarrygolf.ca/event/ligue-du-mens-twilight/2025-07-09/?lang=fr
END:VEVENT
BEGIN:VEVENT
DTSTART;TZID=America/New_York:20250714T080000
DTEND;TZID=America/New_York:20250714T220000
DTSTAMP:20260421T161252
CREATED:20250426T155349Z
LAST-MODIFIED:20250426T160326Z
UID:10000053-1752480000-1752530400@www.glengarrygolf.ca
SUMMARY:Ligue des sénateurs
DESCRIPTION:Les lundis. Débute à 8h00\, 18 trous. Si le lundi est un jour férié\, il est reporté au mardi.
URL:https://www.glengarrygolf.ca/event/ligue-des-senateurs/2025-07-14/?lang=fr
END:VEVENT
BEGIN:VEVENT
DTSTART;TZID=America/New_York:20250715T150000
DTEND;TZID=America/New_York:20250715T173000
DTSTAMP:20260421T161252
CREATED:20250426T155715Z
LAST-MODIFIED:20250426T155715Z
UID:10000114-1752591600-1752600600@www.glengarrygolf.ca
SUMMARY:Ligue Ladies Twilight
DESCRIPTION:Mardi de 15h00 à 17h30 – 9 trous
URL:https://www.glengarrygolf.ca/event/ligue-ladies-twilight/2025-07-15/?lang=fr
END:VEVENT
BEGIN:VEVENT
DTSTART;TZID=America/New_York:20250716T141000
DTEND;TZID=America/New_York:20250716T183000
DTSTAMP:20260421T161252
CREATED:20250426T160547Z
LAST-MODIFIED:20250426T160547Z
UID:10000094-1752675000-1752690600@www.glengarrygolf.ca
SUMMARY:Ligue du Mens' Twilight
DESCRIPTION:Les mercredis de 14h10 à 18h30.
URL:https://www.glengarrygolf.ca/event/ligue-du-mens-twilight/2025-07-16/?lang=fr
END:VEVENT
BEGIN:VEVENT
DTSTART;TZID=America/New_York:20250721T080000
DTEND;TZID=America/New_York:20250721T220000
DTSTAMP:20260421T161252
CREATED:20250426T155349Z
LAST-MODIFIED:20250426T160326Z
UID:10000054-1753084800-1753135200@www.glengarrygolf.ca
SUMMARY:Ligue des sénateurs
DESCRIPTION:Les lundis. Débute à 8h00\, 18 trous. Si le lundi est un jour férié\, il est reporté au mardi.
URL:https://www.glengarrygolf.ca/event/ligue-des-senateurs/2025-07-21/?lang=fr
END:VEVENT
BEGIN:VEVENT
DTSTART;TZID=America/New_York:20250722T150000
DTEND;TZID=America/New_York:20250722T173000
DTSTAMP:20260421T161252
CREATED:20250426T155715Z
LAST-MODIFIED:20250426T155715Z
UID:10000115-1753196400-1753205400@www.glengarrygolf.ca
SUMMARY:Ligue Ladies Twilight
DESCRIPTION:Mardi de 15h00 à 17h30 – 9 trous
URL:https://www.glengarrygolf.ca/event/ligue-ladies-twilight/2025-07-22/?lang=fr
END:VEVENT
BEGIN:VEVENT
DTSTART;TZID=America/New_York:20250723T141000
DTEND;TZID=America/New_York:20250723T183000
DTSTAMP:20260421T161252
CREATED:20250426T160547Z
LAST-MODIFIED:20250426T160547Z
UID:10000095-1753279800-1753295400@www.glengarrygolf.ca
SUMMARY:Ligue du Mens' Twilight
DESCRIPTION:Les mercredis de 14h10 à 18h30.
URL:https://www.glengarrygolf.ca/event/ligue-du-mens-twilight/2025-07-23/?lang=fr
END:VEVENT
BEGIN:VEVENT
DTSTART;TZID=America/New_York:20250728T080000
DTEND;TZID=America/New_York:20250728T220000
DTSTAMP:20260421T161252
CREATED:20250426T155349Z
LAST-MODIFIED:20250426T160326Z
UID:10000055-1753689600-1753740000@www.glengarrygolf.ca
SUMMARY:Ligue des sénateurs
DESCRIPTION:Les lundis. Débute à 8h00\, 18 trous. Si le lundi est un jour férié\, il est reporté au mardi.
URL:https://www.glengarrygolf.ca/event/ligue-des-senateurs/2025-07-28/?lang=fr
END:VEVENT
BEGIN:VEVENT
DTSTART;TZID=America/New_York:20250729T150000
DTEND;TZID=America/New_York:20250729T173000
DTSTAMP:20260421T161252
CREATED:20250426T155715Z
LAST-MODIFIED:20250426T155715Z
UID:10000116-1753801200-1753810200@www.glengarrygolf.ca
SUMMARY:Ligue Ladies Twilight
DESCRIPTION:Mardi de 15h00 à 17h30 – 9 trous
URL:https://www.glengarrygolf.ca/event/ligue-ladies-twilight/2025-07-29/?lang=fr
END:VEVENT
BEGIN:VEVENT
DTSTART;TZID=America/New_York:20250730T141000
DTEND;TZID=America/New_York:20250730T183000
DTSTAMP:20260421T161252
CREATED:20250426T160547Z
LAST-MODIFIED:20250426T160547Z
UID:10000096-1753884600-1753900200@www.glengarrygolf.ca
SUMMARY:Ligue du Mens' Twilight
DESCRIPTION:Les mercredis de 14h10 à 18h30.
URL:https://www.glengarrygolf.ca/event/ligue-du-mens-twilight/2025-07-30/?lang=fr
END:VEVENT
END:VCALENDAR